BEGIN:VCALENDAR
VERSION:2.0
PRODID:icalendar-ruby
CALSCALE:GREGORIAN
BEGIN:VEVENT
DTSTAMP:20260424T100804Z
UID:91a980e7-28a4-4265-8f91-58b7dce99951
DTSTART:20261114T070000
DTEND:20261114T140000
DESCRIPTION:                                
   Antik und Trödelmarkt Mühlhausen \n                 
                 Direkt neben der B247 /Gasometerweg \n   
                               Gegenüber des 
 ADAC\n \n \nVERANSTALTER :  SAHIB SINGH \n \nAltbekannter Antik - und
  Trödelmarkt in gemütlicherm Umfeld \nGut besucht von Händlern und Besu
 chern \n \nImbiss mit wechselden Gerichten\, Kaffee\, gekühlten Getränk
 en \nmoderate Preise und guter Service \n \nAufbauen ab 6:00 Uhr      
      Marktende 13:00 Uhr \nKeine Anmeldung nötig \, einfach kommen und
  verkaufen\nNeuwaren nur mit Anmeldung   Meterpreis 10Euro !!!\n \nDas 
 Standgeld ist bei der Einfahrt auf den Platz zu entrichten.\nSTANDGELD :\n
 PKW /VW BUS                                          
        20€\nPKW MIT ANHÄNGER BIS 750 kg                  2
 5€\nPKW MIT ANHÄNGER ÜBER 750kg              30€\nTRANSPORTER
  / SPRINTER                           25€\nWOHNMOBIL / SPR
 INTER LANG                   30€\nSONSTIGE FAHRZEUGE AUF ANFRA
 GE \nHÄNDLER OHNE FAHRZEUG PRO LAUFENDER METER         6 €\nÜB
 ERBAUTEN ÜBER DIE FAHRZEUGLÄNGE JE METER         5€\n \nBei F
 ragen \nVERANSTALTER    TEL: 0163/428049O       \n Platzwart    
           TEL: 0173/4826400 \n \nWIR FREUEN UNS AUF IHREN / EUREN 
  BESUCH \n 
LOCATION:Gasometerweg  99974 
SUMMARY:Antik und Trödelmarkt Mühlhausen
END:VEVENT
END:VCALENDAR
