BEGIN:VCALENDAR
VERSION:2.0
PRODID:icalendar-ruby
CALSCALE:GREGORIAN
BEGIN:VEVENT
DTSTAMP:20260422T031102Z
UID:2866c6b6-66b4-4851-ad5a-96053f7b533a
DTSTART:20260517T120000
DTEND:20260517T170000
DESCRIPTION:Flohmarkt und verkaufsoffener Sonntag\, den 06.11.22 von 11 - 1
 7 Uhr.\nAufbau ab 9 Uhr Neuware verboten und kein Auto am Stand.\nStandmie
 te: lfdm. 10\,- €
LOCATION:Hauptstraße  77736 
SUMMARY:Flohmarkt und verkaufsoffener Sonntag
END:VEVENT
END:VCALENDAR
