BEGIN:VCALENDAR
VERSION:2.0
PRODID:icalendar-ruby
CALSCALE:GREGORIAN
BEGIN:VEVENT
DTSTAMP:20260422T011725Z
UID:f04eabd3-4dcb-46eb-a07f-291773698695
DTSTART:20261108T120000
DTEND:20261108T170000
DESCRIPTION:Flohmarkt und verkaufsoffener Sonntag\, den 06.11.22 von 11 - 1
 7 Uhr.\nAufbau ab 9 Uhr Neuware verboten und kein Auto am Stand.\nStandmie
 te: lfdm. 10\,- €
LOCATION:Hauptstraße  77736 
SUMMARY:Flohmarkt und verkaufsoffener Sonntag
END:VEVENT
END:VCALENDAR
