BEGIN:VCALENDAR
VERSION:2.0
PRODID:icalendar-ruby
CALSCALE:GREGORIAN
BEGIN:VEVENT
DTSTAMP:20260420T185836Z
UID:aa352a1b-c5c2-4744-89b2-7203fdadb460
DTSTART:20260913T100000
DTEND:20260913T180000
DESCRIPTION:Kunst&amp\;Klaaf - HoffnungsthalWir veranstalten auf dem Stadtf
 est "Kunst&amp\;Klaaf" in Hoffnungsthal einen Trödelmarkt.\nStandort:Hoff
 nungsthal\, Hauptstr.51503 Rösrath
LOCATION:Hauptstraße 278 51503 Hoffnungsthal
SUMMARY:Kunst&amp\;Klaaf\, Trödelmarkt - Hoffnungsthal
END:VEVENT
END:VCALENDAR
