BEGIN:VCALENDAR
VERSION:2.0
PRODID:icalendar-ruby
CALSCALE:GREGORIAN
BEGIN:VEVENT
DTSTAMP:20260425T153138Z
UID:60329bf7-17da-42c1-8f13-e2c57111a4eb
DTSTART:20261003T100000
DTEND:20261003T170000
DESCRIPTION:Location der 14.Designbörse Berlin ist die Tribünenhalle auf 
 der Trabrennbahn Berlin Karlshorst. Der historische Wettannahmesaal aus de
 n 30er Jahren des 20.Jahrhunderts bietet ein perfektes Setting für die Pr
 äsentation ausgesuchten schönen Designs.\nMöbel\, diverse Inneneinricht
 ungen\, Lampen\, Keramik\, Glas und technische Geräte vom Art Deco über 
 Bauhaus bis hin zu Exponaten der 50er\, 60er und 70er Jahre - sämtliche i
 n möglichst guter originaler Erhaltung - bilden den Schwerpunkt der Börs
 e.\nEin Cafe- und Loungebereich mit einem kleinem Imbissangebot sowie Dj-M
 usik sorgen fürs Wohlfühlen.\nDie Design Börse Berlin wird an drei Tage
 n geöffnet sein: Eine Preview am Freitag ab 14:00 Uhr bietet insbesondere
  der Presse sowie den Museen\, dem professionellen Handel und den engagier
 ten Privatsammlern die Möglichkeit einer Vorbesichtigung. Von Samstag bis
  Sonntag den eigentlichen Publikumstagen ist bei günstigem Eintritt von 1
 0-17 Uhr geöffnet.\nBewerbungs- und Anmeldeunterlagen für Händler\, Sam
 mler\, Galeristen und Designer bitte unter www.design-boerse-berlin.de dow
 nloaden.\ndesign.Boerse Berlin Tribünenhalle Trabrennbahn Karlshorst | Tr
 eskowallee 159 | 10318 Berlin\nEintritt: Samstag - Sonntag je: 5\,00 €Fr
 eitag (Preview bzw. 3 Tages Karte): 10\,00 €
LOCATION:Treskowallee 159 10318 Bezirk Lichtenberg
SUMMARY:Designbörse Berlin
END:VEVENT
END:VCALENDAR
