BEGIN:VCALENDAR
VERSION:2.0
PRODID:icalendar-ruby
CALSCALE:GREGORIAN
BEGIN:VEVENT
DTSTAMP:20260421T022230Z
UID:dc4ffc53-755a-455a-9867-b19fad337071
DTSTART:20260808T070000
DTEND:20260808T140000
DESCRIPTION:Buchen Sie Ihren Standplatz gerne online auf www.hoefges-troede
 lmarkt.com\nSie erreichen uns in unserem Servicecenter unter folgenden Bü
 rozeiten:\n \nMo. - Do.         9:00 Uhr - 15:00 Uhr\nFr.        
          9:00 Uhr - 12.30 Uhr\n \nTel:     02151 - 659 17 17 \nE
 -Mail: info@hoefges.com\nWir freuen uns auf Ihren Besuch!\nDer über die S
 tadtgrenzen bekannte Samstags-Trödelmarkt in Krefeld auf dem Parkplatz vo
 m Grotenburg Stadion erfreut sich seit Jahren großer Beliebtheit.\nDas au
 sgewogene Verhältnis von Neuware und Trödel abgerundet durch ein ausreic
 hendes Gastronomieangebot lädt zum Bummeln und Verweilen ein.\nÖffnungsz
 eit7:00 bis 14:00 Uhr\nParkenEs sind auf dem Schotterparkplatz Krefelder Z
 oo /Violstraße ausreichend Besucherparklätze vorhanden.\nAnfahrtBerliner
  Straße\, 47800 Krefeld INFOS FÜR VERKÄUFERAm Tag der Veranstaltung si
 nd wir ab 6.30 Uhr vor Ort.\nGroße WarenvielfaltTop VerkehrsanbindungScho
 tterplatz\nPKW/Transporter am Stand auf eigene Gefahr möglich!PKWs könne
 n ab einer Mindestlänge von 4 Metern hinter dem Stand stehen bleiben. Kom
 bis oder Transporter benötigen zwei Standflächen von 4 Metern. Alternati
 v stehen Händlerparkplätze zur Verfügung.\nAufbauzeitenDer gebuchte Pla
 tz kann ab 7 Uhr eingenommen werden. Zwischen 8 Uhr bis 13 Uhr ist das Bef
 ahren des Geländes mit dem PKW nicht gestattet.\nPreisePREISE BEI LASTSC
 HRIFT-ANMELDUNG\, BARZAHLUNG &amp\; ONLINE\n4 Meter pauschal Trödel    
                                               42\,0
 0 €8 Meter pauschal Trödel                              
                     84\,00 €12 Meter pauschal Trödel      
                                           126\,00 €
 16 Meter pauschal Trödel                                 
               168\,00 €4 Meter Neuware                  
                                           57\,00 €4
  Meter Textil &amp\; Schuhe (neuwertig)                       
          77\,00 €Strom                              
                                               20\,0
 0 €Marktstand                                       
                               +20\,00 €\nReinigungskautio
 n                                                 
           + 10\,00 €
LOCATION:Violstraße 5 47800 Bockum
SUMMARY:Krefeld Grotenburg Stadion 
END:VEVENT
END:VCALENDAR
