BEGIN:VCALENDAR
VERSION:2.0
PRODID:icalendar-ruby
CALSCALE:GREGORIAN
BEGIN:VEVENT
DTSTAMP:20260420T233837Z
UID:db2c1354-60d4-4601-aef6-6b0b6c320b47
DTSTART:20261212T070000
DTEND:20261212T140000
DESCRIPTION:Buchen Sie Ihren Standplatz online unter: www.hoefges-troedelm
 arkt.com\nJeder kann mitmachen!\nSie erreichen uns in unserem Servicecente
 r unter folgenden Bürozeiten:\n \nMo. - Do.         9:00 Uhr - 15:00
  Uhr\nFr.                 9:00 Uhr - 12.30 Uhr\n \nTel:     0
 2151 - 659 17 17 \nE-Mail: info@hoefges.com\nWir freuen uns auf Ihren Bes
 uch!\nDer über die Stadtgrenzen bekannte Samstags-Trödelmarkt auf dem Sc
 hützenplatz erfreut sich seit Jahren großer Beliebtheit.\nDas ausgewogen
 e Verhältnis von Neuware und Trödel abgerundet durch ein ausreichendes G
 astronomieangebot lädt zum Bummeln und Verweilen ein.\nÖffnungszeit7:00 
 bis 14:00 Uhr\nParkenEs sind auf dem Schützenplatz ausreichend Besucherpa
 rklätze vorhanden.\nAnfahrtBayreuther Straße\, 40597 DüsseldorfBuslinie
 n: 730\, 788\, 815\, M1S-Bahn: S6\, S68 INFOS FÜR VERKÄUFERAm Tag der V
 eranstaltung sind wir ab 6 Uhr vor Ort.\nGroße WarenvielfaltTop Verkehrsa
 nbindungSchotterplatz\nPKW/Transporter am StandPKWs können ab einer Minde
 stlänge von 4 Metern hinter dem Stand stehen bleiben. Kombis oder Transpo
 rter benötigen mindestens 5 bis 6 Meter Standlänge. Alternativ stehen H
 ändlerparkplätze zur Verfügung.\nAufbauzeitenDer gebuchte Platz kann ab
  6 Uhr eingenommen werden. Zwischen 8 Uhr bis 13 Uhr ist das Befahren des 
 Geländes mit dem PKW nicht gestattet.\nPreisePREISE BEI LASTSCHRIFT-ANME
 LDUNG\, BARZAHLUNG &amp\; ONLINE\n4 Meter pauschal Trödel           
                                        38\,00 €8 Met
 er pauschal Trödel                                     
              76\,00 €12 Meter pauschal Trödel             
                                    114\,00 €4 Meter Ne
 uware                                              
               53\,00 €4 Meter Textil &amp\; Schuhe (neuwertig)  
                               73\,00 €\nReinigungskaution
                                                  
         + 10\,00 €
LOCATION:Bayreuther Straße 31 40597 Stadtbezirk 9
SUMMARY:Düsseldorf Benrath Schützenplatz
END:VEVENT
END:VCALENDAR
