BEGIN:VCALENDAR
VERSION:2.0
PRODID:icalendar-ruby
CALSCALE:GREGORIAN
BEGIN:VEVENT
DTSTAMP:20260422T021421Z
UID:ebd5c9dc-951c-4fe3-aea9-9a9f3c4c218c
DTSTART:20260712T070000
DTEND:20260712T140000
DESCRIPTION:Buchen Sie Ihren Standplatz online unter: https://buchung.hoefg
 es.com\nJeder kann mitmachen! NEUWARE STRENGSTENS VERBOTEN!\nSie erreichen
  uns in unserem Servicecenter unter folgenden Bürozeiten:\n \nDi. - Do. 
         9:00 Uhr - 15:00 Uhr\nFr.                 9:00 Uhr - 
 12.30 Uhr\n \nTel:     02151 - 659 17 17 \nE-Mail: info@hoefges.com\n
 Wir freuen uns auf Ihren Besuch!\nUnser neuer Trödelmarkt in Berlin Sanda
 u bei Kaufland:\nVersuchen auch Sie hier Ihr Glück als Verkäufer oder ko
 mmen Sie zum Stöbern vorbei.\nParken: Es sind ausreichend Parkplätze vor
 handenGastronomie: Ausgewählte Gastronomen kümmern sich um ihr leibliche
 s Wohl .\nU - Bahn: U7 Rathaus SpandauBuslinien: Bus M45 Teltower Str\,\nS
 -Bahn: S9 - Tresow \nINFOS FÜR VERKÄUFERJeder Stand bzw. jede gebuchte 
 Marktbude misst drei Meter und kann jeweils in drei Meter Schritten erweit
 ert werden. Am Tag der Veranstaltung sind wir ab 6 Uhr vor Ort. \nOnline 
 buchen können Sie bis einen Tag vor der Veranstaltung um 12 Uhr \nEs dar
 f ausschließlich Trödel verkauft werden.Ein Selbstaufbau mit eigenen Tis
 chen ist nicht möglich. Es können nur Marktbuden angemietet werden.PKW/T
 ransporter am Stand auf eigene Gefahr möglichPKWs können bei ausreichend
  gebuchten Metern am Stand stehen bleiben.AufbauzeitenDer gebuchte Platz k
 ann ab 6.15 Uhr eingenommen werden.\nDie Zufahrt auf das Marktgelände son
 ntags findet über zwei Einfahrten statt.\n \nOnline und Vorreservierungs
 preis f. den nächsten Termin:\n \nMarktbude in der Freifläche inkl Rein
 igungskaution                                         
                   65\,00 EUR\n \nVor-Ort Preis sonntags am Veran
 staltungstag\n \nMarktbude in der Freifläche inkl Reinigungskaution   
                                                  
         70\,00 EUR\n \n 
LOCATION:Pichelswerderstraße 6 13597 Bezirk Spandau
SUMMARY:Berlin-Spandau Kaufland neben IKEA
END:VEVENT
END:VCALENDAR
