BEGIN:VCALENDAR
VERSION:2.0
PRODID:icalendar-ruby
CALSCALE:GREGORIAN
BEGIN:VEVENT
DTSTAMP:20260421T064753Z
UID:6308ef51-0c65-42eb-b289-5a633518864f
DTSTART:20261011T070000
DTEND:20261011T140000
DESCRIPTION:Buchen Sie Ihren Standplatz online unter: www.hoefges-troedelm
 arkt.com\nJeder kann mitmachen!\nSie erreichen uns in unserem Servicecente
 r unter folgenden Bürozeiten:\n \nMo. - Do.         9:00 Uhr - 15:00
  Uhr\nFr.                 9:00 Uhr - 12.30 Uhr\n \nTel:     0
 2151 - 659 17 17 \nE-Mail: info@hoefges.com\nWir freuen uns auf Ihren Bes
 uch!\n \nUnser Markt in Berlin Marienfelde an der Metro überzeugt jeden 
 Sonntag viele Besucher\, besonders im Winter\, mit seiner großflächigen 
 Überdachung. \nVersuchen auch Sie hier Ihr Glück als Verkäufer oder ko
 mmen Sie zum Stöbern vorbei.\nParken: ausreichend Parkplätze sind vorha
 nden.\nS-Bahn: S2Buslinie: 277\nGastronomieFür ihr leibliches Wohl ist ge
 sorgt.\nINFOS FÜR VERKÄUFERJeder Stand bzw. jede gebuchte Marktbude miss
 t drei Meter und kann jeweils in drei Meter Schritten erweitert werden. Am
  Tag der Veranstaltung sind wir ab 6 Uhr vor Ort. \nWir möchten Sie höf
 lichst bitten\, sich die ihrer Buchung entsprechenden Zuschläge (Überdac
 hung &amp\; Marktbude)\, eigenständig im Buchungsvorgang dazu zu wählen.
  Eine entsprechende Legende finden Sie auf unserem Lageplan\nOnline buchen
  können Sie bis einen Tag vor der Veranstaltung um 12 Uhr:\nStandplatzEs
  darf ausschließlich Trödel verkauft werden.Bei Bedarf können "Marktbud
 en" gestellt werdenPKW/Transporter am Stand auf eigene Gefahr möglichPKWs
  können bei ausreichend gebuchten Metern am Stand stehen bleiben. Alterna
 tiv stehen Händlerparkplätze zur Verfügung.AufbauzeitenDer gebuchte Pla
 tz kann ab 6 Uhr eingenommen werden. Die Verkaufszeiten sind i.d.R. von 07
 :00 bis 14:00 Uhr\nPreisePREISE BEI LASTSCHRIFT-ANMELDUNG\, BARZAHLUNG &a
 mp\; ONLINE\n3 Meter Trödel pauschale Freifläche                
                     25\,00 €3 Meter Trödel Marktbude.     
                                             40\,00 
 €Dachzuschlag                                       
                             10\,00 €Stromanschluss     
                                                  
           20\,00 €
LOCATION:Buckower Chaussee 25 12277 Bezirk Tempelhof-Schöneberg
SUMMARY:Berlin-Marienfelde Metro
END:VEVENT
END:VCALENDAR
