BEGIN:VCALENDAR
VERSION:2.0
PRODID:icalendar-ruby
CALSCALE:GREGORIAN
BEGIN:VEVENT
DTSTAMP:20260421T055613Z
UID:0b331ff7-3cdb-47a2-b146-fdd8cee2e8f5
DTSTART:20261018T070000
DTEND:20261018T140000
DESCRIPTION:Buchen Sie Ihren Standplatz online unter: www.hoefges-troedelm
 arkt.com\nJeder kann mitmachen!\nSie erreichen uns in unserem Servicecente
 r unter folgenden Bürozeiten:\n \nMo. - Do.         9:00 Uhr - 15:00
  Uhr\nFr.                 9:00 Uhr - 12.30 Uhr\n \nTel:     0
 2151 - 659 17 17 \nE-Mail: info@hoefges.com\nWir freuen uns auf Ihren Bes
 uch!\n \nToller Trödelmarkt in der Goerzallee. Dank vieler umliegender P
 arkplätze und einer bunten Auswahl an Trödel und leckerer Gastronomie l
 ässt dieser Markt das Herz eines jeden Trödelfans höher schlagen.\nÖff
 nungszeit07:00 bis 14:00 Uhr\nParken* ausreichend Parkplätze im umliegend
 en Gewerbegebiet\nGastronomieAusgewählte Gastronomen kümmern sich um ihr
  leibliches Wohl .\nAnfahrtGoerzallee 189-223\, 14167 BerlinBuslinie: 285\
 n INFOS FÜR VERKÄUFERJeder Stand bzw. jede gebuchte Marktbude misst dre
 i Meter und kann jeweils in drei Meter Schritten erweitert werden. Am Tag 
 der Veranstaltung sind wir ab 6 Uhr vor Ort. \nOnline buchen können Sie 
 bis einen Tag vor der Veranstaltung um 12 Uhr. \nEs darf ausschließlich 
 Trödel verkauft werdenBei Bedarf können "Marktbuden" gestellt werden\nPK
 W/Transporter am Stand auf eigene GefahrPKWs können bei ausreichend gebuc
 hten Metern am Stand stehen bleiben. Alternativ stehen Händlerparkplätze
  zur Verfügung.\nAufbauzeitenDer gebuchte Platz kann ab 6 Uhr eingenommen
  werden. Die Verkaufszeiten sind i.d.R. von 07:00 bis 14:00 Uhr\nPreisePRE
 ISE BEI LASTSCHRIFT-ANMELDUNG\, BARZAHLUNG &amp\; ONLINE\n3 Meter Trödel
  pauschale Freifläche                                33\,
 00 €3 Meter Trödel pauschale Marktbude                      
          48\,00 €
LOCATION:Goerzallee 189-223 14167 Bezirk Steglitz-Zehlendorf
SUMMARY:Berlin-Steglitz OBI
END:VEVENT
END:VCALENDAR
