BEGIN:VCALENDAR
VERSION:2.0
PRODID:icalendar-ruby
CALSCALE:GREGORIAN
BEGIN:VEVENT
DTSTAMP:20260421T043526Z
UID:297f096b-5b02-4e9f-9041-786eea492b87
DTSTART:20261017T070000
DTEND:20261017T140000
DESCRIPTION:Buchen Sie Ihren Standplatz online unter: www.hoefges-troedelm
 arkt.com\nJeder kann mitmachen!\nSie erreichen uns in unserem Servicecente
 r unter folgenden Bürozeiten:\n \nMo. - Do.         9:00 Uhr - 15:00
  Uhr\nFr.                 9:00 Uhr - 12.30 Uhr\n \nTel:     0
 2151 - 659 17 17 \nE-Mail: info@hoefges.com\nWir freuen uns auf Ihren Bes
 uch!\nDa ist er endlich wieder. Der beliebte Samstags Trödelmarkt vor der
  100\,5 Arena. Gut erreichbar in unmittelbarer Nähe zu Tivoli und Chio.\n
  Öffnungszeit07:00 bis 14:00 UhrParkenAuf dem GeländeGastronomieFür ih
 r leibliches Wohl ist gesorgtAnfahrtHubert-Wien Straße 852070 Aachen\nBus
 linien: 30\, 51\, 151 INFOS FÜR VERKÄUFERFür Sammler und Schnäppchenj
 äger\, hier ist für jeden etwas dabei. Standplatz \nSeit Jahren belieb
 ter TrödelmarktFindet jeden Samstag stattVorerst ohne überdachte Fläche
 PKW/Transporter am Stand\nAufbauzeiten\nDer gebuchte Platz kann ab 6 Uhr e
 ingenommen werden und wird bis 7 Uhr frei gehalten. Der Aufbau beginnt um 
 6 Uhr! Zwischen 8 bis 14 Uhr ist das Befahren des Geländes mit dem PKW ni
 cht gestattet.\nPreisePREISE BEI LASTSCHRIFT-ANMELDUNG\, BARZAHLUNG &amp\
 ; ONLINE\n4 Meter pauschal Trödel                           
                        38\,00 €8 Meter pauschal Trödel   
                                                76\
 ,00 €4 Meter Neuware                                   
                         53\,00 €4 Meter Textil &amp\; Schuhe
  (neuwertig)                                73\,00 €\nRe
 inigungskaution                                       
                   + 10\,00 €
LOCATION:Hubert-Wienen-Straße 8 52070 
SUMMARY:Aachen Eissporthalle 100\,5 Arena
END:VEVENT
END:VCALENDAR
