BEGIN:VCALENDAR
VERSION:2.0
PRODID:icalendar-ruby
CALSCALE:GREGORIAN
BEGIN:VEVENT
DTSTAMP:20260420T230834Z
UID:49a7281b-97d6-48aa-b1f8-cb5635fefaad
DTSTART:20261212T070000
DTEND:20261212T140000
DESCRIPTION:Buchen Sie Ihren Standplatz online unter: www.hoefges-troedelm
 arkt.com\nJeder kann mitmachen!\nSie erreichen uns in unserem Servicecente
 r unter folgenden Bürozeiten:\n \nMo. - Do.         9:00 Uhr - 15:00
  Uhr\nFr.                 9:00 Uhr - 12.30 Uhr\n \nTel:     0
 2151 - 659 17 17 \nE-Mail: info@hoefges.com\nWir freuen uns auf Ihren Bes
 uch!\nDieser schöne Trödelmarkt im Süden Bochums\, direkt an der Ruhr-U
 niversität Bochum bietet eine tolle Auswahl an Trödel- und Neuwarenstän
 den\, sodass für jeden Besucher das richtige dabei ist.\nÖffnungszeit7:0
 0 bis 14:00 Uhr\nParkenAusreichend Parkplätze direkt neben dem Veranstalt
 ungsgelände\nGastronomieEinladende Auswahl an Gastronomie und Sonderstän
 den\nAnfahrtSchattbachstraße / Ecke Lise-Meitner-Allee44801 BochumBuslini
 en: 344\, 346U-Bahn: U35\nAm Tag der Veranstaltung sind wir ab 6 Uhr vor O
 rt.\nOnline buchen können Sie bis einen Tag vor der Veranstaltung um 12 U
 hr. \nViele Besucherparkplätze direkt am MarktGute VerkehrsanbindungTOP-
 Angebot für Trödel und NeuwarePKW/Transporter am StandPKWs können ab ei
 ner Mindestlänge von 4 Metern hinter dem Stand stehen bleiben. Kombis ode
 r Transporter benötigen mindestens 5 bis 6 Meter Standlänge. Alternativ 
 stehen Händlerparkplätze zur Verfügung.\nAufbauzeitenDer gebuchte Platz
  kann ab 6 Uhr eingenommen werden und wird bis 9 Uhr frei gehalten. Zwisch
 en 9 bis 13 Uhr ist das Befahren des Geländes mit dem PKW nicht gestattet
 .\nPreisePREISE BEI LASTSCHRIFT-ANMELDUNG\, BARZAHLUNG &amp\; ONLINE\n4 M
 eter pauschal Trödel                                   
                38\,00 €8 Meter pauschal Trödel           
                                        76\,00 €4 Met
 er Neuware                                           
                 53\,00 €4 Meter Textil &amp\; Schuhe (neuwertig)
                                 73\,00 €\nReinigunskauti
 on                                                
            + 10\,00 €
LOCATION:Schattbachstraße 41 44801 Bochum Süd
SUMMARY:Bochum Ruhr Uni
END:VEVENT
END:VCALENDAR
