BEGIN:VCALENDAR
VERSION:2.0
PRODID:icalendar-ruby
CALSCALE:GREGORIAN
BEGIN:VEVENT
DTSTAMP:20260424T032152Z
UID:0bdbe72b-1bf1-4b9a-bec0-8bcea4627075
DTSTART:20260904T130000
DTEND:20260904T200000
DESCRIPTION:Buchen Sie Ihren Standplatz online unter: www.hoefges-troedelm
 arkt.com\nJeder kann mitmachen!\nSie erreichen uns in unserem Servicecente
 r unter folgenden Bürozeiten:\n \nMo. - Do.         9:00 Uhr - 15:00
  Uhr\nFr.                 9:00 Uhr - 12.30 Uhr\n \nTel:     0
 2151 - 659 17 17 \nE-Mail: info@hoefges.com\nWir freuen uns auf Ihren Bes
 uch!\nDer über die Stadtgrenzen bekannte Samstags-Trödelmarkt in Krefeld
  auf dem Parkplatz vom Grotenburg Stadion erfreut sich seit Jahren großer
  Beliebtheit.\nDas ausgewogene Verhältnis von Neuware und Trödel abgerun
 det durch ein ausreichendes Gastronomieangebot lädt zum Bummeln und Verwe
 ilen ein.\nÖffnungszeit13:00 bis 18:00 Uhr\nParkenEs sind auf dem Schotte
 rparkplatz Krefelder Zoo /Violstraße ausreichend Besucherparklätze vorha
 nden.\nAnfahrtBerliner Straße\, 47800 Krefeld INFOS FÜR VERKÄUFERAm Ta
 g der Veranstaltung sind wir ab 13 Uhr vor Ort.\nGroße WarenvielfaltTop V
 erkehrsanbindungSchotterplatz\nPKW/Transporter am Stand auf eigene Gefahr 
 möglich!PKWs können ab einer Mindestlänge von 4 Metern hinter dem Stand
  stehen bleiben. Kombis oder Transporter benötigen zwei Standflächen von
  4 Metern. Alternativ stehen Händlerparkplätze zur Verfügung.\nAufbauze
 itenDer gebuchte Platz kann ab 13 Uhr eingenommen werden. Zwischen 13 Uhr 
 bis 17 Uhr ist das Befahren des Geländes mit dem PKW nicht gestattet.\nPr
 eisePREISE BEI LASTSCHRIFT-ANMELDUNG\, BARZAHLUNG &amp\; ONLINE\n4 Meter 
 (2 Parkbuchten) pauschal Trödel                            
                       30\,00 €4 Meter (2 Parkbuchten) Neuware
                                                  
            45\,00 €4 Meter (2 Parkbuchten) Textil &amp\; Schuhe (n
 euwertig)                                65\,00 €Strom 
                                                  
                                                  2
 5\,00 €Marktstand                                     
                                                  
       20\,00 €\nReinigungskaution                        
                                                  
         + 10\,00 €     
LOCATION:Violstraße 5 47800 Bockum
SUMMARY:Krefeld Grotenburg Stadion After Work ab 13 h 
END:VEVENT
END:VCALENDAR
