BEGIN:VCALENDAR
VERSION:2.0
PRODID:icalendar-ruby
CALSCALE:GREGORIAN
BEGIN:VEVENT
DTSTAMP:20260421T115245Z
UID:adcb669a-037f-4818-b5d6-e7f5ba9744ae
DTSTART:20260501T110000
DTEND:20260501T170000
DESCRIPTION:
LOCATION:Weberstraße 4 49191 
SUMMARY:Parkplatz MIOS
END:VEVENT
END:VCALENDAR
