BEGIN:VCALENDAR
VERSION:2.0
PRODID:icalendar-ruby
CALSCALE:GREGORIAN
BEGIN:VEVENT
DTSTAMP:20260421T101351Z
UID:42189060-e838-409e-9fa9-70490663e462
DTSTART:20260816T110000
DTEND:20260816T170000
DESCRIPTION:
LOCATION:Weberstraße 4 49191 
SUMMARY:Parkplatz MIOS
END:VEVENT
END:VCALENDAR
