BEGIN:VCALENDAR
VERSION:2.0
PRODID:icalendar-ruby
CALSCALE:GREGORIAN
BEGIN:VEVENT
DTSTAMP:20260421T115219Z
UID:e65fb5df-12c3-46dd-b4de-f76ce4526453
DTSTART:20261108T110000
DTEND:20261108T170000
DESCRIPTION:
LOCATION:Weberstraße 4 49191 
SUMMARY:Parkplatz MIOS
END:VEVENT
END:VCALENDAR
