BEGIN:VCALENDAR
VERSION:2.0
PRODID:icalendar-ruby
CALSCALE:GREGORIAN
BEGIN:VEVENT
DTSTAMP:20260420T231321Z
UID:46cf720b-8335-4ccc-a374-628e18c1e540
DTSTART:20260726T110000
DTEND:20260726T180000
DESCRIPTION:PREISE: Trödel lfdm./Tag € 11\,- / Neuware lfdm./Tag € 20\
 ,- zzgl. € 5\,- Grundgebühr auf die Gesamtstandmiete\, + € 5\,- Reini
 gungskaution (Die KAUTION bekommen Sie vor Ort\, bei sauberen Verlassen ih
 res Platzes\, gegen Vorlage der am Veranstaltungstag ausgestellten Quittun
 g ZURÜCKERSTATTET !)\nAb 3 lfdm. darf der Pkw hinter dem Stand stehen ble
 iben\, sofern dieser dahinter passt (ist von der Pkw-Länge abhängig!).\n
 Gerne können Sie\, bis 3 Tage vor dem Veranstaltungstag\, 16.00 Uhr\, per
  E-Mail unter veranstaltungsbuero.stefan@gmail.com einen Platz reservier
 en lassen\, in diesem Fall müssten Sie dann am Veranstaltungstag bis 08.0
 0 Uhr vor Ort sein\, die Bezahlung der Standgebühr erfolgt bis 3 Tage vor
  der Veranstaltung per Überweisung\, die Daten für die Überweisung werd
 en ihnen in der jeweiligen E-Mail-Bestätigung mitgeteilt! \nOder Sie kom
 men am Tag vor dem Veranstaltungstag auf den Parkplatz\, in der Zeit von 1
 4 bis 17 Uhr sind wir dann vor Ort und zeichnen\, gegen Bezahlung der Stan
 dgebühr\, Plätze ein! (solange/sofern Plätze vorhanden sind!)\nSollten 
 Sie keine Reservierung wünschen\, können Sie auch am Veranstaltungstag s
 elbst\, ab 06.30 Uhr zur Restplatzvergabe erscheinen! (solange/sofern Plä
 tze vorhanden sind!)\nKOSTENLOSE BESUCHERPARKPLÄTZE RUND UM DAS VERANSTAL
 TUNGSGELÄNDE !\nWEITERE INFO´S unter www.veranstaltungsbuero-stefan.de 
 ODER auf unserer Facebook-Seite: Veranstaltungsbüro-Stefan\n \nWegbeschr
 eibung: A 40\, Abfahrt Do-Kley/Indupark\, dann Richtung Indupark und den o
 rangen Kram- Trödelmarktschildern\n                         
        mit den Pfeilen folgen!\n \nAdresse: 44149 Dortmund\, Borussias
 tr. 120
LOCATION:Borussiastraße 120 44149 Lütgendortmund
SUMMARY:Dortmund\, IKEA Parkplatz\, Borussiastr. 120
END:VEVENT
END:VCALENDAR
