BEGIN:VCALENDAR
VERSION:2.0
PRODID:icalendar-ruby
CALSCALE:GREGORIAN
BEGIN:VEVENT
DTSTAMP:20260421T174846Z
UID:34ccf38e-809d-47e1-bb57-eab881358c85
DTSTART:20260822T060000
DTEND:20260822T130000
DESCRIPTION:Es gibt keine Reservierungs möglichkeit - Anfragen über das k
 ontaktformuar werden nicht mehr beantwortet.\n\nTische und Kleiderständer
  müssen Sie selber mitbringen\, wir stellen Ihnen keine zur Verfügung! 
 \n\nTermin überblick: \nHier sind die wichtigsten Details im Überblick:\
 nWann: \nJeden Samstag\, 06:00 Uhr bis 13:00 Uhr\n\nWo: \n\nParkplatz Me
 ssegelände gegenüber der Zentralhallen\nAnreise mit dem Bus: \nLinie 2\,
  14 oder R41\, Haltestelle »Zentralhallen«\nBesonderheiten:\n\nKostenlos
 e Besucher-Parkplätze\nAufbau ab 6:00 Uhr\nAuto am Stand erlaubt\n\nPreis
 e:\n\nJeder Meter Trödel kostet 9\,-€J\neder Meter Neuwaren kostet 12\,
 -€\n\nDer Flohmarkt ist mehr als nur ein Ort des Handels – er ist ein 
 lebendiger Treffpunkt für Schnäppchenjäger\, Familien\, Sammler und Tr
 ödelfans.Hier wird Nachhaltigkeit gelebt – was für den einen ausgedien
 t hat\, wird zum neuen Schatz für andere! \nAlso – Kofferraum vollpack
 en\, Freunde einladen und los geht’s!Teilt den Termin mit eurer Communit
 y – wir freuen uns auf euch!\nBei Fragen gerne melden.Euer Flohmarkt Ham
 m-Team
LOCATION:Ökonomierat-Peitzmeier-Platz Hellweg  59063 
SUMMARY:❤Flohmarkt Hamm NRW an den Zentralhallen
END:VEVENT
END:VCALENDAR
