BEGIN:VCALENDAR
VERSION:2.0
PRODID:icalendar-ruby
CALSCALE:GREGORIAN
BEGIN:VEVENT
DTSTAMP:20260423T163706Z
UID:46b13cc2-52bb-42c7-b613-98d033a21baa
DTSTART:20260606T110000
DTEND:20260606T180000
DESCRIPTION:Tiefgaragen Flohmarkt mit fast 30 jährigen bestehen\, Dank uns
 ere Kunden!\nVerastalter:    Tarhan\nTel. 0172 2883156\nMehr Infos unter
 :\nWeb. WWW. flohmarktkassel.de \n \n       
LOCATION:Entenbühl 8 34132 Oberzwehren
SUMMARY:Flohmarkt Tiefgarage Uni-Kassel
END:VEVENT
END:VCALENDAR
