BEGIN:VCALENDAR
VERSION:2.0
PRODID:icalendar-ruby
CALSCALE:GREGORIAN
BEGIN:VEVENT
DTSTAMP:20260423T165325Z
UID:55ad899f-531c-40c8-95fb-0eabeaf40374
DTSTART:20260801T110000
DTEND:20260801T180000
DESCRIPTION:Tiefgaragen Flohmarkt mit fast 30 jährigen bestehen\, Dank uns
 ere Kunden!\nVerastalter:    Tarhan\nTel. 0172 2883156\nMehr Infos unter
 :\nWeb. WWW. flohmarktkassel.de \n \n       
LOCATION:Entenbühl 8 34132 Oberzwehren
SUMMARY:Flohmarkt Tiefgarage Uni-Kassel
END:VEVENT
END:VCALENDAR
