BEGIN:VCALENDAR
VERSION:2.0
PRODID:icalendar-ruby
CALSCALE:GREGORIAN
BEGIN:VEVENT
DTSTAMP:20260423T150003Z
UID:7dbb0ded-6579-4a6f-8e02-ae5d4b54369d
DTSTART:20260802T110000
DTEND:20260802T180000
DESCRIPTION:Tiefgaragen Flohmarkt mit fast 30 jährigen bestehen\, Dank uns
 ere Kunden!\nVerastalter:    Tarhan\nTel. 0172 2883156\nMehr Infos unter
 :\nWeb. WWW. flohmarktkassel.de \n \n       
LOCATION:Entenbühl 8 34132 Oberzwehren
SUMMARY:Flohmarkt Tiefgarage Uni-Kassel
END:VEVENT
END:VCALENDAR
