BEGIN:VCALENDAR
VERSION:2.0
PRODID:icalendar-ruby
CALSCALE:GREGORIAN
BEGIN:VEVENT
DTSTAMP:20260423T165209Z
UID:9bf87aa8-5a53-4f33-b5b4-df28546d7702
DTSTART:20261004T110000
DTEND:20261004T180000
DESCRIPTION:Tiefgaragen Flohmarkt mit fast 30 jährigen bestehen\, Dank uns
 ere Kunden!\nVerastalter:    Tarhan\nTel. 0172 2883156\nMehr Infos unter
 :\nWeb. WWW. flohmarktkassel.de \n \n       
LOCATION:Entenbühl 8 34132 Oberzwehren
SUMMARY:Flohmarkt Tiefgarage Uni-Kassel
END:VEVENT
END:VCALENDAR
