BEGIN:VCALENDAR
VERSION:2.0
PRODID:icalendar-ruby
CALSCALE:GREGORIAN
BEGIN:VEVENT
DTSTAMP:20260423T150636Z
UID:41af348b-8962-4263-8f57-ebdd165fe766
DTSTART:20261206T110000
DTEND:20261206T180000
DESCRIPTION:Tiefgaragen Flohmarkt mit fast 30 jährigen bestehen\, Dank uns
 ere Kunden!\nVerastalter:    Tarhan\nTel. 0172 2883156\nMehr Infos unter
 :\nWeb. WWW. flohmarktkassel.de \n \n       
LOCATION:Entenbühl 8 34132 Oberzwehren
SUMMARY:Flohmarkt Tiefgarage Uni-Kassel
END:VEVENT
END:VCALENDAR
