BEGIN:VCALENDAR
VERSION:2.0
PRODID:icalendar-ruby
CALSCALE:GREGORIAN
BEGIN:VEVENT
DTSTAMP:20260426T043702Z
UID:aee2a9c5-4906-49a2-8865-6612ab0448ba
DTSTART:20260606T090000
DTEND:20260606T180000
DESCRIPTION:
LOCATION:Kunibertstraße  54492 
SUMMARY:Floh und Trödelmarkt 
END:VEVENT
END:VCALENDAR
