BEGIN:VCALENDAR
VERSION:2.0
PRODID:icalendar-ruby
CALSCALE:GREGORIAN
BEGIN:VEVENT
DTSTAMP:20260426T041940Z
UID:340a203c-8243-4906-b073-6957f9f7ab30
DTSTART:20260718T090000
DTEND:20260718T180000
DESCRIPTION:
LOCATION:Kunibertstraße  54492 
SUMMARY:Floh und Trödelmarkt 
END:VEVENT
END:VCALENDAR
