BEGIN:VCALENDAR
VERSION:2.0
PRODID:icalendar-ruby
CALSCALE:GREGORIAN
BEGIN:VEVENT
DTSTAMP:20260424T130210Z
UID:e113e943-5294-4cca-a973-2a59e706b2cd
DTSTART:20260525T110000
DTEND:20260525T180000
DESCRIPTION:Neuware pro lfm 10\,00 €. Trödel bis 5 lfm 30\,00 €\, jede
 r weitere lfm 6\,00 €  ab 3 m Auto am Stand (wenn möglich)
LOCATION:Biether Straße  41334 Breyell
SUMMARY:Nettetal- Breyell
END:VEVENT
END:VCALENDAR
