BEGIN:VCALENDAR
VERSION:2.0
PRODID:icalendar-ruby
CALSCALE:GREGORIAN
BEGIN:VEVENT
DTSTAMP:20260421T103206Z
UID:a164df81-b5bb-46d6-bd48-66aa146d4495
DTSTART:20260628T110000
DTEND:20260628T180000
DESCRIPTION:Etwa monatlich stattfindender Trödelmarkt in zentraler Lage. E
 in ausgewogenes Verhältnis von Trödel und Neuware erwartet Sie. Gerade b
 ei schönem Wetter findet man hier viele private Aussteller welche ihre ga
 nz persönlichen Schätze anbieten.\nNutzen Sie die Gelegenheit Dinge die 
 Sie nicht mehr benötigen zu Geld zu machen - oder Sie sind privater (Hobb
 y-)Trödler oder wollen ein solcher werden\, dann sind Sie natürlich auch
  herzlich willkomen.\nParken BesucherDie weitläufige Umgebung bietet Park
 plätze - wir empfehlen jedoch trotzdem die Anreise mit öffentlichen Verk
 ehrsmitteln\nStandplatzreservierungenüber unser Büro: bis Freitag vor de
 m Markt 12 Uhrvor Ort: Samstag 17 Uhr\, Sonntag ab 7 Uhr\nParken Ausstelle
 r / PKW am StandGenerell können Sie Ihr Fahrzeug quer hinter dem Stand pa
 rken sofern die Länge des Fahrzeuges der Standlänge entspricht (z. B. Go
 lf-Größe ab 4 lfd. Metern / Kombi ab 5 lfd. Metern). Fragen Sie im Zweif
 el gerne die Marktleitung vor Ort bzw. entnehmen Sie die Länge Ihres Fahr
 zeuges dem Fahrzeugschein.\nStandaufbauAb 7 Uhr - jedoch nicht vor Eintref
 fen der Marktleitung (erkennbar an der gelben Weste / rotes T-Shirt bzw. P
 ullover)\nVerkaufszeit11 bis 18 Uhr\, Abbau ab 16 Uhr möglich\nStandmiete
 nGrundgebühr / Stand: 5€lfd. Meter Trödel 12€lfd. Meter Neuware 20
 €lfd. Meter Textil / Lederwaren / Werkzeug 22€Eckplatzzuschlag: 20€R
 einigungskaution: 5€ (bei sauberem Verlassen zurück)Angebote etc. entne
 hmen Sie bitte unserer HomepageAktuelles Angebot: 4 Meter Trödel 45€-P
 KW am Stand soweit möglich-\n \n \nWeitere Infos auf unserer Homepage w
 ww.rieder-maerkte.de (einfach unten auf "Homepage des Veranstalters" klick
 en). \n 
LOCATION:Bahnstraße 11 52355 
SUMMARY:Düren toom-Baumarkt
END:VEVENT
END:VCALENDAR
