BEGIN:VCALENDAR
VERSION:2.0
PRODID:icalendar-ruby
CALSCALE:GREGORIAN
BEGIN:VEVENT
DTSTAMP:20260420T014238Z
UID:c7f4a15d-fc09-4c60-aa73-8e966a9dfc59
DTSTART:20260621T110000
DTEND:20260621T170000
DESCRIPTION:Großer Trödelmarkt in Herne bei TOOM / Rewe\nAdresse : \nBah
 nhofstraße 152 / Roonstr. 6\n44629 Herne\n \n \nAnreise : \nAutobahn:\
 nA42\, Abfahrt "Herne-Baukau"\ndann der Beschilderung folgen\n \n \nVerk
 auf ab 11:00 Uhr!\n \nPlatzvergabe am Samstag  zwischen  13 und 14 Uhr 
 auf dem Toom Parkplatz\nTrödel    10 EURO  lfd.mtr.\nNeuware  15  E
 URO  lfd.mtr.\nGrundgebühr  5 EURO\nKontakt:\n01713658844
LOCATION:Bahnhofstraße 152 44629 
SUMMARY:TOOM / REWE HERNE
END:VEVENT
END:VCALENDAR
