BEGIN:VCALENDAR
VERSION:2.0
PRODID:icalendar-ruby
CALSCALE:GREGORIAN
BEGIN:VEVENT
DTSTAMP:20260420T171556Z
UID:113552ad-280b-43f8-a121-cb635c9d6461
DTSTART:20260501T110000
DTEND:20260501T180000
DESCRIPTION:Großer Trödelmarkt in Dortmund bei Hornbach:\n \nAdresse:\nB
 orsigstraße 20-22\, 44145 Dortmund\n \n \nPreise Standgebühr:\nTrödel
  : 10€ lfm \nNeuware: 15€ lfm\nGrundgebühr: 5€\n \nInfos und Anme
 ldung unter : Telefon : 01713658844Platzvergabe am Sonntag ab 06:00 Uhr
LOCATION:Borsigstraße 20-22 44145 Innenstadt-Nord
SUMMARY:Hornbach Dortmund
END:VEVENT
END:VCALENDAR
