BEGIN:VCALENDAR
VERSION:2.0
PRODID:icalendar-ruby
CALSCALE:GREGORIAN
BEGIN:VEVENT
DTSTAMP:20260420T152439Z
UID:40f7ce54-975a-4747-8af3-7fce8ee6a87c
DTSTART:20260604T110000
DTEND:20260604T180000
DESCRIPTION:Großer Trödelmarkt in Dortmund bei Hornbach:\n \nAdresse:\nB
 orsigstraße 20-22\, 44145 Dortmund\n \n \nPreise Standgebühr:\nTrödel
  : 10€ lfm \nNeuware: 15€ lfm\nGrundgebühr: 5€\n \nInfos und Anme
 ldung unter : Telefon : 01713658844Platzvergabe am Sonntag ab 06:00 Uhr
LOCATION:Borsigstraße 20-22 44145 Innenstadt-Nord
SUMMARY:Hornbach Dortmund
END:VEVENT
END:VCALENDAR
