BEGIN:VCALENDAR
VERSION:2.0
PRODID:icalendar-ruby
CALSCALE:GREGORIAN
BEGIN:VEVENT
DTSTAMP:20260425T102142Z
UID:661f1b42-80a2-4518-b9d8-419560c2c2be
DTSTART:20261213T110000
DTEND:20261213T160000
DESCRIPTION:Der Weiberkram euer Lieblingsflohmarkt kommt nach Lingen und mi
 t dabei: Vintage-Schnäppchen\, Second Hand-Besonderheiten und Retro-Acces
 soires.\nMit den Emslandhallen haben wir auch die passende Stammlocation g
 efunden.\nAußerdem sind wie immer Snacks am Start und eine einzigartige S
 timmung\, die den Weiberkram so besonders macht. Also schaut vorbei oder s
 ichert euch euren eigenen Flohmarktstand! Wir freuen uns auf euch!\n \nAn
 meldungen / Standbuchungen \n \nnur unter www.weiberkram.org möglich.\n
  
LOCATION:Lindenstraße 24a 49808 
SUMMARY:Weiberkram Mädelsflohmarkt - LINGEN ❤️❤️
END:VEVENT
END:VCALENDAR
