BEGIN:VCALENDAR
VERSION:2.0
PRODID:icalendar-ruby
CALSCALE:GREGORIAN
BEGIN:VEVENT
DTSTAMP:20260420T090149Z
UID:4c35eed9-81bb-4895-a7aa-5fc4075b4420
DTSTART:20260517T100000
DTEND:20260517T160000
DESCRIPTION:Alsfeld\nHessenhalle und Freigelände\nHalle 3 Antik und Sammle
 rmarkt\nHalle 2 Flohmarkt Trödel + Neuware\nFreigelände Flohmarkt Tröde
 l + Neuware\nStandmiete Freigelände für Trödel und Neuware lfd. Meter 5
  € / Tag\nab 4 Meter bleibt das Auto am Stand\, der kleinste Platz ist 2
  Meter.\nAntik und Edeltrödel nur in der Hallen !
LOCATION:An der Hessenhalle  36304 
SUMMARY:Trödel- Flohmarkt Alsfeld 5 € Meter / Freigelände
END:VEVENT
END:VCALENDAR
