BEGIN:VCALENDAR
VERSION:2.0
PRODID:icalendar-ruby
CALSCALE:GREGORIAN
BEGIN:VEVENT
DTSTAMP:20260425T000202Z
UID:3c3dd10a-8c9e-4947-ba1f-1b289347a049
DTSTART:20260503T110000
DTEND:20260503T160000
DESCRIPTION:Sommer heißt bei Mädchen Klamotte Outdoor Saison\, also gehen
  wir raus an die frische Luft :)Ganz unter diesem Motto findet ihr auf uns
 erem Mädchenflohmarkt:Vintage Schätze\, Second Hand Klamotten\, Kinderbe
 kleidung- und ausstattung\, Designerware\, Schuhe\, Schmuck und Accessoire
 s.Ob alt\, ausrangiert\, geliebt\, zu klein\, zu groß\, bei uns findet je
 de Klamotte ein neues Zuhause.Wir bieten euch all das\, was das Mädchen H
 erz begehrt.\nInfos zu Eintritts-/ sowie Ausstellerpreisen und das Anmel
 deformular findet Ihr unter www.maedchenklamotte.de ❤
LOCATION:Am Stichkanal 11 14167 Bezirk Steglitz-Zehlendorf
SUMMARY:OUTDOOR Mädchen Klamotte - Der Mädelsflohmarkt @Roller Parkplatz 
 Berlin Steglitz
END:VEVENT
END:VCALENDAR
