BEGIN:VCALENDAR
VERSION:2.0
PRODID:icalendar-ruby
CALSCALE:GREGORIAN
BEGIN:VEVENT
DTSTAMP:20260420T014054Z
UID:8106536e-2109-4528-abf4-8401adc0a4da
DTSTART:20260531T110000
DTEND:20260531T160000
DESCRIPTION:Trödelmarkt auf der gesammten Hubert-Underberg-Allee im Gewerb
 epark Alte Landstraße Nähe Rheinberger Bahnhof.\nInfos unter www.richter
 -troedelmaerkte.de oder 02843/9036903
LOCATION:Hubert-Underberg-Allee 2 47495 
SUMMARY:Gewerbepark Hubert-Underberg-Allee
END:VEVENT
END:VCALENDAR
