BEGIN:VCALENDAR
VERSION:2.0
PRODID:icalendar-ruby
CALSCALE:GREGORIAN
BEGIN:VEVENT
DTSTAMP:20260420T030334Z
UID:7c1cb253-4e63-4054-8e8d-3395136a8549
DTSTART:20260628T110000
DTEND:20260628T160000
DESCRIPTION:Trödelmarkt auf der gesammten Hubert-Underberg-Allee im Gewerb
 epark Alte Landstraße Nähe Rheinberger Bahnhof.\nInfos unter www.richter
 -troedelmaerkte.de oder 02843/9036903
LOCATION:Hubert-Underberg-Allee 2 47495 
SUMMARY:Gewerbepark Hubert-Underberg-Allee
END:VEVENT
END:VCALENDAR
