BEGIN:VCALENDAR
VERSION:2.0
PRODID:icalendar-ruby
CALSCALE:GREGORIAN
BEGIN:VEVENT
DTSTAMP:20260419T235344Z
UID:0c745798-bbdd-4f02-97d2-65b8da38e5a2
DTSTART:20260830T110000
DTEND:20260830T160000
DESCRIPTION:Trödelmarkt auf der gesammten Hubert-Underberg-Allee im Gewerb
 epark Alte Landstraße Nähe Rheinberger Bahnhof.\nInfos unter www.richter
 -troedelmaerkte.de oder 02843/9036903
LOCATION:Hubert-Underberg-Allee 2 47495 
SUMMARY:Gewerbepark Hubert-Underberg-Allee
END:VEVENT
END:VCALENDAR
