BEGIN:VCALENDAR
VERSION:2.0
PRODID:icalendar-ruby
CALSCALE:GREGORIAN
BEGIN:VEVENT
DTSTAMP:20260420T014231Z
UID:763e7383-8649-401c-afba-d8bec868011f
DTSTART:20260927T110000
DTEND:20260927T160000
DESCRIPTION:Trödelmarkt auf der gesammten Hubert-Underberg-Allee im Gewerb
 epark Alte Landstraße Nähe Rheinberger Bahnhof.\nInfos unter www.richter
 -troedelmaerkte.de oder 02843/9036903
LOCATION:Hubert-Underberg-Allee 2 47495 
SUMMARY:Gewerbepark Hubert-Underberg-Allee
END:VEVENT
END:VCALENDAR
