BEGIN:VCALENDAR
VERSION:2.0
PRODID:icalendar-ruby
CALSCALE:GREGORIAN
BEGIN:VEVENT
DTSTAMP:20260420T014140Z
UID:4624c577-5608-4f5e-a8b2-a4629b6b1154
DTSTART:20261025T110000
DTEND:20261025T160000
DESCRIPTION:Trödelmarkt auf der gesammten Hubert-Underberg-Allee im Gewerb
 epark Alte Landstraße Nähe Rheinberger Bahnhof.\nInfos unter www.richter
 -troedelmaerkte.de oder 02843/9036903
LOCATION:Hubert-Underberg-Allee 2 47495 
SUMMARY:Gewerbepark Hubert-Underberg-Allee
END:VEVENT
END:VCALENDAR
