BEGIN:VCALENDAR
VERSION:2.0
PRODID:icalendar-ruby
CALSCALE:GREGORIAN
BEGIN:VEVENT
DTSTAMP:20260420T102532Z
UID:cb77164f-9572-4975-b1cb-ea19b0e6d67d
DTSTART:20260830T110000
DTEND:20260830T180000
DESCRIPTION:Neuware 18€ lfdm./ Tag\; Trödel 10€ lfdm./Tag\nAufbauzeite
 n So. 6-8 Uhr\n \nAnmeldungen unter: \nVPZ Ebents\nAndreas Tabor\nZum Kn
 ollen 11\n51702 Bergneustadt\nTel.: 02261-789278\nFax: 02261-789279\nHandy
 : 0176-90775619\nE-Mail: tabor@vpz-veranstaltungen.de
LOCATION:Wahlscheider Straße  53797 
SUMMARY:Wahlscheider Kirmes
END:VEVENT
END:VCALENDAR
