BEGIN:VCALENDAR
VERSION:2.0
PRODID:icalendar-ruby
CALSCALE:GREGORIAN
BEGIN:VEVENT
DTSTAMP:20260424T095653Z
UID:e3ff943c-c65a-46f8-be3f-e3ea58de1061
DTSTART:20260501T110000
DTEND:20260501T160000
DESCRIPTION:Infos unter www.richter-troedelmaerkte.de oder 02843/9036903
LOCATION:Glückaufstraße 10 47198 Homberg-Ruhrort-Baerl
SUMMARY:Bürgermeister-Bongartz-Platz Marktplatz Hochheide
END:VEVENT
END:VCALENDAR
