BEGIN:VCALENDAR
VERSION:2.0
PRODID:icalendar-ruby
CALSCALE:GREGORIAN
BEGIN:VEVENT
DTSTAMP:20260424T100724Z
UID:f611ebba-d4df-42aa-8ce3-17f9e7a31bb5
DTSTART:20260604T110000
DTEND:20260604T160000
DESCRIPTION:Infos unter www.richter-troedelmaerkte.de oder 02843/9036903
LOCATION:Glückaufstraße 10 47198 Homberg-Ruhrort-Baerl
SUMMARY:Bürgermeister-Bongartz-Platz Marktplatz Hochheide
END:VEVENT
END:VCALENDAR
