BEGIN:VCALENDAR
VERSION:2.0
PRODID:icalendar-ruby
CALSCALE:GREGORIAN
BEGIN:VEVENT
DTSTAMP:20260423T210021Z
UID:c2062178-ffbe-49f0-9e4f-e49d707809ce
DTSTART:20260830T130000
DTEND:20260830T160000
DESCRIPTION:"Ich müsste dringend mal entrümpeln\, aber die Sachen sind zu
  Schade zum Wegwerfen." Geht es dir auch so?Dann nichts wie auf zu unserem
  Flohmarkt! Bau dir deinen eigenen Stand auf und biete deine Schätze an. 
 Ob Bücher\, Deko\, Vasen\, DVD´s\, Spielsachen oder Kleidung - alles dar
 f einen neuen Besitzer finden.\nDer Flohmarkt finden im Freien auf dem gro
 ßen Parkplatz vor dem bodyHOUSE und Neula Ladenbau statt. Sollte es an de
 m Tag in Strömen regnen\, verschieben wir den Flohmarkt einfach kurzfrist
 ig. Wir erheben eine Standgebühr von 5 € - Kinder dürfen kostenfrei ei
 nen Stand von 1x1m aufbauen. Bitte kommt als Verkäufer nur\, wenn ihr eur
 en Stand auch bis 16 Uhr aufgebaut lasst.\nZur besseren Planung bitten wir
  dich lediglich\, uns bis zum 25.04.2025 Bescheid zu geben\, dass du einen
  Stand machen möchtest. Dies geht entweder per Telefon oder Whattsapp an 
 03 64 81 - 61 23 0 oder per Mail an trainer@bodyhouse.info.Wir freuen uns 
 auf zahlreiche Verkäufer\, Besucher und glückliche Gesichter 
LOCATION:Dimitroffstraße 14 07806 
SUMMARY:Flohmarkt für Jedermann
END:VEVENT
END:VCALENDAR
