BEGIN:VCALENDAR
VERSION:2.0
PRODID:icalendar-ruby
CALSCALE:GREGORIAN
BEGIN:VEVENT
DTSTAMP:20260421T184213Z
UID:f92bdbd8-db12-492c-9694-6d2471505bf9
DTSTART:20260514T110000
DTEND:20260514T170000
DESCRIPTION:RIESEN FLOHMARKT     EKC BOUS\n \nEs ist wieder so weit\, 
 der Startschuß für unseren größten Flohmarkt im Saarland ist gefallen.
 \nWir freuen uns auch dieses Jahr wieder auf zahlreichen Zulauf an neuen H
 ändlern und natürlich auf unsere neuen so wie alten Kunden.\n \nVERANST
 ALTER\nMarktveranstaltungen Schreier\nEiweilerstraße 1\n66793 Saarwelling
 en\nTel. 06838/85222         \nInfo@mv-schreier.de          
                         \nwww.mv-schreier.de\nScha
 uen Sie auf unserer Webseite nach aktuellen Terminen und wöchentlichen Fl
 ohmarktveranstaltungen
LOCATION:Saarbrücker Straße 197 66359 Bous
SUMMARY:Einkaufcenter Bous   EKC
END:VEVENT
END:VCALENDAR
