BEGIN:VCALENDAR
VERSION:2.0
PRODID:icalendar-ruby
CALSCALE:GREGORIAN
BEGIN:VEVENT
DTSTAMP:20260421T055710Z
UID:7ad79e01-348f-4bfa-9db0-20c4a73acf87
DTSTART:20261011T110000
DTEND:20261011T180000
DESCRIPTION:Am 1. und 11. Oktober 2026 findet am Aussengelände vom Marler 
 Stern das große Marler Seefest statt!\n \nPassend dazu veranstalten wir 
 an beiden Tagen einen Westfalenmarkt\nin der unteren Passage des Einkaufce
 nters Marler Stern\,\nkomplett Wetterunabhängig.\nViele kostenlose Parkpl
 ätze am Center\, freier Eintritt\, gut erreichbar im Zentrum von Marl!\n
  \nKunst und Handwerk\, Blumen\, Schmuck\, Tierbedarf ect. also ein schö
 nes gemischtes Angebot!\nKein Trödelmarkt!\nDer Aufbau für die Ausstelle
 r ist ab 7:30 Uhr möglich.\nDer Verkauf am Samstag ist von 10 bis 18 Uhr 
 und am Sonntag von 11 bis 18 Uhr.\n \nEine Anmeldung ist erforderlich 015
 78 3754700 oder info@va-kleingries.de\nEs sind auch einzelne Tage buchbar!
 \n \nDer laufende Meter wird mit 20 Euro berechnet\, bei einer Buchung vo
 n 2 Tagen wird es natürlich günstiger.\n \nWir freuen uns auf ein schö
 nes gemischtes Angebot und eine tolle Veranstaltung\n \nIhr findet uns au
 f FB\, Instagram ud TikTok auf Veranstaltungen Kleingries\nBesucht unsere 
 Websit va-kleingries.com\n \n 
LOCATION:Bergstraße 228 45768 
SUMMARY:Westfalen Markt
END:VEVENT
END:VCALENDAR
