BEGIN:VCALENDAR
VERSION:2.0
PRODID:icalendar-ruby
CALSCALE:GREGORIAN
BEGIN:VEVENT
DTSTAMP:20260426T041957Z
UID:a7f21c7e-cfac-498d-ab2a-65b09eafb07e
DTSTART:20260502T070000
DTEND:20260502T160000
DESCRIPTION:Beliebter Flohmarkt Samstag 2. 05. 2026 in 79872 Bernau Innerle
 hen /Schw. auf dem Parkplatz Kurhaus. Eine Anmeldung ist nicht erforderlic
 h.\nAufbau der Stände ab 7 Uhr. Auto verbleibt bei abnahme von 3 Metern a
 m Verkaufsstand. Lfm. 9\,-- €\nDer Flohmarkt findet von 9 Uhr bis 16 Uhr
  statt !!\nInfo. 0160 - 3719485\nh_immetsberger@web.de
LOCATION:Am Kurpark 16 79872 Innerlehen
SUMMARY:Parkplatz beim Kurhaus Touristik
END:VEVENT
END:VCALENDAR
