BEGIN:VCALENDAR
VERSION:2.0
PRODID:icalendar-ruby
CALSCALE:GREGORIAN
BEGIN:VEVENT
DTSTAMP:20260423T135441Z
UID:7407dbf3-368c-400e-abd6-1b1d770e1fc1
DTSTART:20260530T100000
DTEND:20260530T160000
DESCRIPTION:Zwei Mal im Jahr zeigen die Anwohner St. Paulis\, wie man auf 
 dem Kiez feilscht und handelt\, denn von 9 bis 16 Uhr findet auf dem Spiel
 budenplatz der Anwohner-Flohmarkt statt. Hier genießen Käufer und Verkä
 ufer den sonntäglichen Dorfcharakter der Vergnügungsmeile.
LOCATION:Spielbudenplatz  20359 Hamburg-Mitte
SUMMARY:Flohmarkt auf dem Spielbudenplatz
END:VEVENT
END:VCALENDAR
