BEGIN:VCALENDAR
VERSION:2.0
PRODID:icalendar-ruby
CALSCALE:GREGORIAN
BEGIN:VEVENT
DTSTAMP:20260423T142609Z
UID:83794c77-5207-4eb7-a6c7-eafe9786711f
DTSTART:20260829T100000
DTEND:20260829T160000
DESCRIPTION:Zwei Mal im Jahr zeigen die Anwohner St. Paulis\, wie man auf 
 dem Kiez feilscht und handelt\, denn von 9 bis 16 Uhr findet auf dem Spiel
 budenplatz der Anwohner-Flohmarkt statt. Hier genießen Käufer und Verkä
 ufer den sonntäglichen Dorfcharakter der Vergnügungsmeile.
LOCATION:Spielbudenplatz  20359 Hamburg-Mitte
SUMMARY:Flohmarkt auf dem Spielbudenplatz
END:VEVENT
END:VCALENDAR
