BEGIN:VCALENDAR
VERSION:2.0
PRODID:icalendar-ruby
CALSCALE:GREGORIAN
BEGIN:VEVENT
DTSTAMP:20260423T171343Z
UID:9c585088-ee2c-4c20-8516-3c0f6b29ca28
DTSTART:20260621T110000
DTEND:20260621T190000
DESCRIPTION:Der Viertel Meile Design Markt löst das Partytreiben auf dem
  Spielbudenplatz ab und schafft Raum für schöne und außergewöhnliche D
 inge\, die allesamt von verschiedensten Künstlern und Designern handgef
 ertigt wurden.\nAbseits von Massenprodukten Made in China legen die Macher
  beim Viertel Meile Design Markt größten Wert auf die sorgfältige Auswa
 hl der teilnehmenden Händlerinnen und Händler\, sodass eine tolle Qualit
 ät garantiert werden kann. Knapp 100 Anbieter präsentieren sich bei dies
 em Designmarkt mit abwechslungsreichen Produkten wie Schmuck\, Wohnaccesso
 ires\, Mode für Groß und Klein\, Fotografien\, Illustrationen\, Kunstdru
 cken\, Kosmetik\, und vielem mehr. Viele der Produkte werden aus Bio- und 
 fair gehandelten Materialien gefertigt oder re- und upcycled.\nIm »Café 
 de Pauli« gibt es leckere Kaffeespezialitäten und Köstlichkeiten von ve
 rschiedenen Food Trucks in französisch angehauchtem Ambiente zu genießen
 : von Eiscreme\, Waffeln und veganen Speisen\, bis hin zu Burgern und Burr
 itos ist hier für jeden Geschmack etwas dabei. Bei der angeschlossenen Ki
 nderecke können die Kids spielen und basteln\, während die Eltern über 
 den Markt bummeln.\nMitten im Herzen von St. Pauli entsteht so an diesem T
 ag ein Markt auf dem man sich und andere mit allerhand schönen Dingen bes
 chenken kann.
LOCATION:Spielbudenplatz 11 20359 Hamburg-Mitte
SUMMARY:Viertel Meile Design Markt
END:VEVENT
END:VCALENDAR
