BEGIN:VCALENDAR
VERSION:2.0
PRODID:icalendar-ruby
CALSCALE:GREGORIAN
BEGIN:VEVENT
DTSTAMP:20260422T002954Z
UID:8705fb49-f7f1-4263-8214-7d5cbd74af78
DTSTART:20260620T120000
DTEND:20260620T200000
DESCRIPTION:Komm vorbei\, wenn das Dach von Galeria Karstadt Osterstraße s
 ich wieder in ein wahres Recycling-Paradies verwandelt wird!\nDurchstöber
 e über 200 Stände voller verschiedenster Second-Hand-Schätze und ergatt
 er Schnäppchen und einzigartige Fundstücke. Oder nimm selbst mit einem S
 tand Teil und schaff Platz in den eigenen vier Wänden und deinem Kleiders
 chrank zum Wohle der Umwelt und des Geldbeutels.\nWeil Shopping hungrig ma
 cht\, gibt es oben auf dem Dach zudem ein tolles internationales Angebot a
 n Streetfood:Von feinstem Kaffee serviert aus dem Citroen Oldtimer\, über
  frische Säfte\,knusprige Pizza\, herzhafte Burger bis hin zu afrikanisch
 er und karibischer Küche gibt es alles was dein hungriges Herz begehrt!\n
 Also auf zum Rooftop Flohmarkt - für einmalige Schätze\, köstliches Ess
 en und eine fantastische Flohmarkt-Atmosphäre. ♻️
LOCATION:Osterstraße 119 20259 Eimsbüttel
SUMMARY:ROOFTOP FLOHMARKT GALERIA OSTERSTRASSE
END:VEVENT
END:VCALENDAR
