BEGIN:VCALENDAR
VERSION:2.0
PRODID:icalendar-ruby
CALSCALE:GREGORIAN
BEGIN:VEVENT
DTSTAMP:20260421T084715Z
UID:73ee0b36-2d1b-467e-b72a-aa9364c1ce31
DTSTART:20261205T070000
DTEND:20261205T120000
DESCRIPTION:Das letzte Haus in der Straße\, das Soldatenwohnheim. Gaststä
 tte anbei.\nEintritt:\nAb  7:00 Uhr -   9:00 Uhr    25 Euro (Frühere
 r Einlass)\nAb  9:00 Uhr - 12:00 Uhr      5 Euro  \nKinder bis 12 Ja
 hre - gratis.\n \nAusgestellt werden Orden/ Hieb- und Stichwaffen / Helme
  / Uniformen und vieles mehr.\nEs wird keine Neuware angeboten.\n \nKonta
 ktieren Sie uns gerne per Email oder besuchen Sie unsere Homepage https://
 www.sammlerboersefrank.de/
LOCATION:Am Löhchen 5 56477 
SUMMARY:Militariabörse Rennerod
END:VEVENT
END:VCALENDAR
